BEGIN:VCALENDAR
VERSION:2.0
PRODID:-//Guild of Health Writers - ECPv6.15.17.1//NONSGML v1.0//EN
CALSCALE:GREGORIAN
METHOD:PUBLISH
X-ORIGINAL-URL:https://healthwriters.com
X-WR-CALDESC:Events for Guild of Health Writers
REFRESH-INTERVAL;VALUE=DURATION:PT1H
X-Robots-Tag:noindex
X-PUBLISHED-TTL:PT1H
BEGIN:VTIMEZONE
TZID:UTC
BEGIN:STANDARD
TZOFFSETFROM:+0000
TZOFFSETTO:+0000
TZNAME:UTC
DTSTART:20220101T000000
END:STANDARD
END:VTIMEZONE
BEGIN:VEVENT
DTSTART;TZID=UTC:20230713T170000
DTEND;TZID=UTC:20230713T183000
DTSTAMP:20260422T083539
CREATED:20230613T110600Z
LAST-MODIFIED:20230626T101650Z
UID:1565-1689267600-1689273000@healthwriters.com
SUMMARY:Don't let ChatGPT put you out of work - Zoom Event
DESCRIPTION:Finding work in MedComms \nIf you’re worried about your work disappearing and want to find new streams of writing income\, join our online panel session on finding freelance commissions in MedComms (you don’t need a PhD!). \nSpeakers to include: \n\n Guild member Corinne Swainger\, who runs her own consultancy MediQuill Ltd\, who will speak about why health/medical writer skills are in demand in the MedComms sector and why health writers have transferable skills.\n\n  \n\n Annette Keith \, Executive Scientific Director at Langland\,  will be speaking about why MedComms needs good writers and why we shouldn’t feel threatened by ChatGPT.\n\n  \n\nPeter Llewellyn\,  founder of  MedComms Networking and MedComms Workbook \, a network organisation for medical writers that circulates opportunities and callouts for medical writers. Peter will talk about some of the challenges of ChatGPT and AI and the opportunities for health writers in the Med Comms sector.\n\nThis is  Zoom Event – Joining Details will be sent via email on 12 July 2023. \nTo Book Your Place via Eventbrite click here
URL:https://healthwriters.com/event/dont-let-chatgpt-put-you-out-of-work-zoom-event/
LOCATION:Online – via Zoom\, Online - Zoom event
END:VEVENT
END:VCALENDAR